BEGIN:VCALENDAR
VERSION:2.0
PRODID:-//The ARTS Index/LynchburgTickets by ArtSync - ECPv6.15.20//NONSGML v1.0//EN
CALSCALE:GREGORIAN
METHOD:PUBLISH
X-ORIGINAL-URL:https://www.arts-index.net
X-WR-CALDESC:Events for The ARTS Index/LynchburgTickets by ArtSync
REFRESH-INTERVAL;VALUE=DURATION:PT1H
X-Robots-Tag:noindex
X-PUBLISHED-TTL:PT1H
BEGIN:VTIMEZONE
TZID:America/New_York
BEGIN:DAYLIGHT
TZOFFSETFROM:-0500
TZOFFSETTO:-0400
TZNAME:EDT
DTSTART:20240310T070000
END:DAYLIGHT
BEGIN:STANDARD
TZOFFSETFROM:-0400
TZOFFSETTO:-0500
TZNAME:EST
DTSTART:20241103T060000
END:STANDARD
BEGIN:DAYLIGHT
TZOFFSETFROM:-0500
TZOFFSETTO:-0400
TZNAME:EDT
DTSTART:20250309T070000
END:DAYLIGHT
BEGIN:STANDARD
TZOFFSETFROM:-0400
TZOFFSETTO:-0500
TZNAME:EST
DTSTART:20251102T060000
END:STANDARD
BEGIN:DAYLIGHT
TZOFFSETFROM:-0500
TZOFFSETTO:-0400
TZNAME:EDT
DTSTART:20260308T070000
END:DAYLIGHT
BEGIN:STANDARD
TZOFFSETFROM:-0400
TZOFFSETTO:-0500
TZNAME:EST
DTSTART:20261101T060000
END:STANDARD
BEGIN:DAYLIGHT
TZOFFSETFROM:-0500
TZOFFSETTO:-0400
TZNAME:EDT
DTSTART:20270314T070000
END:DAYLIGHT
BEGIN:STANDARD
TZOFFSETFROM:-0400
TZOFFSETTO:-0500
TZNAME:EST
DTSTART:20271107T060000
END:STANDARD
END:VTIMEZONE
BEGIN:VEVENT
DTSTART;TZID=America/New_York:20260303T190000
DTEND;TZID=America/New_York:20260303T190000
DTSTAMP:20260422T054933
CREATED:20260227T191128Z
LAST-MODIFIED:20260227T191128Z
UID:10005080-1772564400-1772564400@www.arts-index.net
SUMMARY:Five Minute Film Festival
DESCRIPTION:
URL:https://www.arts-index.net/event/five-minute-film-festival/2026-03-03/
LOCATION:LaHaye Event Space at Liberty University\, 1971 University Blvd\, Lynchburg\, 24502\, United States
CATEGORIES:Film
ATTACH;FMTTYPE=image/jpeg:https://www.arts-index.net/wp-content/uploads/2026/02/5minfilm.jpg
ORGANIZER;CN="LU Student Activities":MAILTO:studentactivities@liberty.edu
END:VEVENT
BEGIN:VEVENT
DTSTART;TZID=America/New_York:20251024T193000
DTEND;TZID=America/New_York:20251024T193000
DTSTAMP:20260422T054933
CREATED:20251017T175939Z
LAST-MODIFIED:20251017T175935Z
UID:10004129-1761334200-1761334200@www.arts-index.net
SUMMARY:Songwriter Cafe
DESCRIPTION:
URL:https://www.arts-index.net/event/songwriter-cafe/
LOCATION:LaHaye Event Space at Liberty University\, 1971 University Blvd\, Lynchburg\, 24502\, United States
CATEGORIES:Music
ATTACH;FMTTYPE=image/jpeg:https://www.arts-index.net/wp-content/uploads/2025/10/SongwriterCafe.jpg
ORGANIZER;CN="Liberty University School of Music":MAILTO:SOM@Liberty.edu
END:VEVENT
END:VCALENDAR