BEGIN:VCALENDAR
VERSION:2.0
PRODID:-//The ARTS Index/LynchburgTickets by ArtSync - ECPv6.15.20//NONSGML v1.0//EN
CALSCALE:GREGORIAN
METHOD:PUBLISH
X-ORIGINAL-URL:https://www.arts-index.net
X-WR-CALDESC:Events for The ARTS Index/LynchburgTickets by ArtSync
REFRESH-INTERVAL;VALUE=DURATION:PT1H
X-Robots-Tag:noindex
X-PUBLISHED-TTL:PT1H
BEGIN:VTIMEZONE
TZID:America/New_York
BEGIN:DAYLIGHT
TZOFFSETFROM:-0500
TZOFFSETTO:-0400
TZNAME:EDT
DTSTART:20240310T070000
END:DAYLIGHT
BEGIN:STANDARD
TZOFFSETFROM:-0400
TZOFFSETTO:-0500
TZNAME:EST
DTSTART:20241103T060000
END:STANDARD
BEGIN:DAYLIGHT
TZOFFSETFROM:-0500
TZOFFSETTO:-0400
TZNAME:EDT
DTSTART:20250309T070000
END:DAYLIGHT
BEGIN:STANDARD
TZOFFSETFROM:-0400
TZOFFSETTO:-0500
TZNAME:EST
DTSTART:20251102T060000
END:STANDARD
BEGIN:DAYLIGHT
TZOFFSETFROM:-0500
TZOFFSETTO:-0400
TZNAME:EDT
DTSTART:20260308T070000
END:DAYLIGHT
BEGIN:STANDARD
TZOFFSETFROM:-0400
TZOFFSETTO:-0500
TZNAME:EST
DTSTART:20261101T060000
END:STANDARD
BEGIN:DAYLIGHT
TZOFFSETFROM:-0500
TZOFFSETTO:-0400
TZNAME:EDT
DTSTART:20270314T070000
END:DAYLIGHT
BEGIN:STANDARD
TZOFFSETFROM:-0400
TZOFFSETTO:-0500
TZNAME:EST
DTSTART:20271107T060000
END:STANDARD
END:VTIMEZONE
BEGIN:VEVENT
DTSTART;TZID=America/New_York:20260418T190000
DTEND;TZID=America/New_York:20260418T203000
DTSTAMP:20260421T055504
CREATED:20260410T192107Z
LAST-MODIFIED:20260410T192107Z
UID:10005262-1776538800-1776544200@www.arts-index.net
SUMMARY:Student Honorary Play
DESCRIPTION:
URL:https://www.arts-index.net/event/student-honorary-play/2026-04-18/
LOCATION:Hailey Theatre\, Dillard Fine Arts Center\, University of Lynchburg\, 1501 Lakeside Drive\, Lynchburg\, 24501\, United States
CATEGORIES:Theatre
ATTACH;FMTTYPE=image/jpeg:https://www.arts-index.net/wp-content/uploads/2026/04/theatre-curtain-call-cabaret-1-DbzYbU.jpg
END:VEVENT
BEGIN:VEVENT
DTSTART;TZID=America/New_York:20260327T193000
DTEND;TZID=America/New_York:20260327T210000
DTSTAMP:20260421T055504
CREATED:20260212T213932Z
LAST-MODIFIED:20260212T213932Z
UID:10005017-1774639800-1774645200@www.arts-index.net
SUMMARY:Curtain Call Songwriters Workshop
DESCRIPTION:
URL:https://www.arts-index.net/event/curtain-call-songwriters-workshop/
LOCATION:Hailey Theatre\, Dillard Fine Arts Center\, University of Lynchburg\, 1501 Lakeside Drive\, Lynchburg\, 24501\, United States
CATEGORIES:Theatre
ATTACH;FMTTYPE=image/jpeg:https://www.arts-index.net/wp-content/uploads/2026/02/theatre-curtain-call-cabaret-1-DbzYbU.jpg
END:VEVENT
BEGIN:VEVENT
DTSTART;TZID=America/New_York:20260221T193000
DTEND;TZID=America/New_York:20260221T210000
DTSTAMP:20260421T055504
CREATED:20260212T213629Z
LAST-MODIFIED:20260213T040801Z
UID:10005016-1771702200-1771707600@www.arts-index.net
SUMMARY:The Lightning Thief: The Percy Jackson Musical
DESCRIPTION:
URL:https://www.arts-index.net/event/the-lightning-thief-the-percy-jackson-musical/2026-02-21/
LOCATION:Hailey Theatre\, Dillard Fine Arts Center\, University of Lynchburg\, 1501 Lakeside Drive\, Lynchburg\, 24501\, United States
CATEGORIES:Theatre
ATTACH;FMTTYPE=image/jpeg:https://www.arts-index.net/wp-content/uploads/2026/02/LighgtningThief.jpg
END:VEVENT
BEGIN:VEVENT
DTSTART;TZID=America/New_York:20251107T193000
DTEND;TZID=America/New_York:20251107T210000
DTSTAMP:20260421T055504
CREATED:20251107T200026Z
LAST-MODIFIED:20251107T200026Z
UID:10004200-1762543800-1762549200@www.arts-index.net
SUMMARY:Curtain Call
DESCRIPTION:
URL:https://www.arts-index.net/event/curtain-call/
LOCATION:Hailey Theatre\, Dillard Fine Arts Center\, University of Lynchburg\, 1501 Lakeside Drive\, Lynchburg\, 24501\, United States
CATEGORIES:Music,Theatre
ATTACH;FMTTYPE=image/jpeg:https://www.arts-index.net/wp-content/uploads/2025/11/theatre-curtain-call-cabaret-1-DbzYbU.jpg
END:VEVENT
BEGIN:VEVENT
DTSTART;TZID=America/New_York:20251018T193000
DTEND;TZID=America/New_York:20251018T213000
DTSTAMP:20260421T055504
CREATED:20251010T151250Z
LAST-MODIFIED:20251010T151250Z
UID:10003734-1760815800-1760823000@www.arts-index.net
SUMMARY:The 39 Steps
DESCRIPTION:
URL:https://www.arts-index.net/event/the-39-steps/2025-10-18/
LOCATION:Hailey Theatre\, Dillard Fine Arts Center\, University of Lynchburg\, 1501 Lakeside Drive\, Lynchburg\, 24501\, United States
CATEGORIES:Theatre
ATTACH;FMTTYPE=image/jpeg:https://www.arts-index.net/wp-content/uploads/2025/10/39steps.jpg
END:VEVENT
END:VCALENDAR