BEGIN:VCALENDAR
VERSION:2.0
PRODID:-//The ARTS Index/LynchburgTickets by ArtSync - ECPv6.15.20//NONSGML v1.0//EN
CALSCALE:GREGORIAN
METHOD:PUBLISH
X-WR-CALNAME:The ARTS Index/LynchburgTickets by ArtSync
X-ORIGINAL-URL:https://www.arts-index.net
X-WR-CALDESC:Events for The ARTS Index/LynchburgTickets by ArtSync
REFRESH-INTERVAL;VALUE=DURATION:PT1H
X-Robots-Tag:noindex
X-PUBLISHED-TTL:PT1H
BEGIN:VTIMEZONE
TZID:America/New_York
BEGIN:DAYLIGHT
TZOFFSETFROM:-0500
TZOFFSETTO:-0400
TZNAME:EDT
DTSTART:20240310T070000
END:DAYLIGHT
BEGIN:STANDARD
TZOFFSETFROM:-0400
TZOFFSETTO:-0500
TZNAME:EST
DTSTART:20241103T060000
END:STANDARD
BEGIN:DAYLIGHT
TZOFFSETFROM:-0500
TZOFFSETTO:-0400
TZNAME:EDT
DTSTART:20250309T070000
END:DAYLIGHT
BEGIN:STANDARD
TZOFFSETFROM:-0400
TZOFFSETTO:-0500
TZNAME:EST
DTSTART:20251102T060000
END:STANDARD
BEGIN:DAYLIGHT
TZOFFSETFROM:-0500
TZOFFSETTO:-0400
TZNAME:EDT
DTSTART:20260308T070000
END:DAYLIGHT
BEGIN:STANDARD
TZOFFSETFROM:-0400
TZOFFSETTO:-0500
TZNAME:EST
DTSTART:20261101T060000
END:STANDARD
BEGIN:DAYLIGHT
TZOFFSETFROM:-0500
TZOFFSETTO:-0400
TZNAME:EDT
DTSTART:20270314T070000
END:DAYLIGHT
BEGIN:STANDARD
TZOFFSETFROM:-0400
TZOFFSETTO:-0500
TZNAME:EST
DTSTART:20271107T060000
END:STANDARD
END:VTIMEZONE
BEGIN:VEVENT
DTSTART;TZID=America/New_York:20260321T130000
DTEND;TZID=America/New_York:20260321T130000
DTSTAMP:20260421T042617
CREATED:20260320T142304Z
LAST-MODIFIED:20260320T142304Z
UID:10005131-1774098000-1774098000@www.arts-index.net
SUMMARY:Discovering ChamberSoul with Shana Tucker
DESCRIPTION:
URL:https://www.arts-index.net/event/discovering-chambersoul-with-shana-tucker/
LOCATION:Downtown Branch – Lynchburg Public Library\, 216 12th Street (former Visitor Center)\, Lynchburg\, 24504\, United States
CATEGORIES:Music
ATTACH;FMTTYPE=image/jpeg:https://www.arts-index.net/wp-content/uploads/2026/03/ShanaTucker.jpg
END:VEVENT
BEGIN:VEVENT
DTSTART;TZID=America/New_York:20260307T110000
DTEND;TZID=America/New_York:20260307T110000
DTSTAMP:20260421T042617
CREATED:20260306T181726Z
LAST-MODIFIED:20260306T181726Z
UID:10005105-1772881200-1772881200@www.arts-index.net
SUMMARY:OOTJ's The Magic Flute
DESCRIPTION:
URL:https://www.arts-index.net/event/ootjs-the-magic-flute/
LOCATION:Downtown Branch – Lynchburg Public Library\, 216 12th Street (former Visitor Center)\, Lynchburg\, 24504\, United States
CATEGORIES:Music,Opera
ATTACH;FMTTYPE=image/jpeg:https://www.arts-index.net/wp-content/uploads/2026/03/Magic-Flute.jpg
END:VEVENT
BEGIN:VEVENT
DTSTART;TZID=America/New_York:20260306T173000
DTEND;TZID=America/New_York:20260306T190000
DTSTAMP:20260421T042617
CREATED:20260227T193913Z
LAST-MODIFIED:20260227T193913Z
UID:10005088-1772818200-1772823600@www.arts-index.net
SUMMARY:Downtown Branch: Ceilidh with Dancing Strings
DESCRIPTION:
URL:https://www.arts-index.net/event/downtown-branch-ceilidh-with-dancing-strings/
LOCATION:Downtown Branch – Lynchburg Public Library\, 216 12th Street (former Visitor Center)\, Lynchburg\, 24504\, United States
CATEGORIES:Dance
ATTACH;FMTTYPE=image/jpeg:https://www.arts-index.net/wp-content/uploads/2026/02/Ceilidh.jpg
END:VEVENT
BEGIN:VEVENT
DTSTART;TZID=America/New_York:20251222T170000
DTEND;TZID=America/New_York:20251222T180000
DTSTAMP:20260421T042617
CREATED:20251219T181248Z
LAST-MODIFIED:20251219T181248Z
UID:10004607-1766422800-1766426400@www.arts-index.net
SUMMARY:Storytime with Santa
DESCRIPTION:
URL:https://www.arts-index.net/event/storytime-with-santa-2/
LOCATION:Downtown Branch – Lynchburg Public Library\, 216 12th Street (former Visitor Center)\, Lynchburg\, 24504\, United States
CATEGORIES:Story Telling
ATTACH;FMTTYPE=image/jpeg:https://www.arts-index.net/wp-content/uploads/2025/12/storytimesanta.jpg
END:VEVENT
BEGIN:VEVENT
DTSTART;TZID=America/New_York:20251205T170000
DTEND;TZID=America/New_York:20251205T180000
DTSTAMP:20260421T042617
CREATED:20251128T182548Z
LAST-MODIFIED:20251128T182548Z
UID:10004232-1764954000-1764957600@www.arts-index.net
SUMMARY:Storytime with Santa
DESCRIPTION:
URL:https://www.arts-index.net/event/storytime-with-santa/
LOCATION:Downtown Branch – Lynchburg Public Library\, 216 12th Street (former Visitor Center)\, Lynchburg\, 24504\, United States
CATEGORIES:Story Telling
ATTACH;FMTTYPE=image/jpeg:https://www.arts-index.net/wp-content/uploads/2025/11/StorytimeSanta.jpg
END:VEVENT
BEGIN:VEVENT
DTSTART;TZID=America/New_York:20250905T170000
DTEND;TZID=America/New_York:20250905T190000
DTSTAMP:20260421T042617
CREATED:20250829T014208Z
LAST-MODIFIED:20250829T014208Z
UID:10001688-1757091600-1757098800@www.arts-index.net
SUMMARY:Book & Tea Tasting
DESCRIPTION:
URL:https://www.arts-index.net/event/book-tea-tasting/
LOCATION:Downtown Branch – Lynchburg Public Library\, 216 12th Street (former Visitor Center)\, Lynchburg\, 24504\, United States
CATEGORIES:Literature
ATTACH;FMTTYPE=image/jpeg:https://www.arts-index.net/wp-content/uploads/2025/08/books-tea.jpg
END:VEVENT
END:VCALENDAR