BEGIN:VCALENDAR
VERSION:2.0
PRODID:-//The ARTS Index/LynchburgTickets by ArtSync - ECPv6.15.20//NONSGML v1.0//EN
CALSCALE:GREGORIAN
METHOD:PUBLISH
X-ORIGINAL-URL:https://www.arts-index.net
X-WR-CALDESC:Events for The ARTS Index/LynchburgTickets by ArtSync
REFRESH-INTERVAL;VALUE=DURATION:PT1H
X-Robots-Tag:noindex
X-PUBLISHED-TTL:PT1H
BEGIN:VTIMEZONE
TZID:America/New_York
BEGIN:DAYLIGHT
TZOFFSETFROM:-0500
TZOFFSETTO:-0400
TZNAME:EDT
DTSTART:20240310T070000
END:DAYLIGHT
BEGIN:STANDARD
TZOFFSETFROM:-0400
TZOFFSETTO:-0500
TZNAME:EST
DTSTART:20241103T060000
END:STANDARD
BEGIN:DAYLIGHT
TZOFFSETFROM:-0500
TZOFFSETTO:-0400
TZNAME:EDT
DTSTART:20250309T070000
END:DAYLIGHT
BEGIN:STANDARD
TZOFFSETFROM:-0400
TZOFFSETTO:-0500
TZNAME:EST
DTSTART:20251102T060000
END:STANDARD
BEGIN:DAYLIGHT
TZOFFSETFROM:-0500
TZOFFSETTO:-0400
TZNAME:EDT
DTSTART:20260308T070000
END:DAYLIGHT
BEGIN:STANDARD
TZOFFSETFROM:-0400
TZOFFSETTO:-0500
TZNAME:EST
DTSTART:20261101T060000
END:STANDARD
END:VTIMEZONE
BEGIN:VEVENT
DTSTART;TZID=America/New_York:20250614T000000
DTEND;TZID=America/New_York:20250614T050000
DTSTAMP:20260423T165251
CREATED:20250606T180900Z
LAST-MODIFIED:20250606T180900Z
UID:10001177-1749859200-1749877200@www.arts-index.net
SUMMARY:Joe's movie house
DESCRIPTION:
URL:https://www.arts-index.net/event/joes-movie-house-2/
LOCATION:Madison House of the Arts\, 607 Madison Street\, Lynchburg\, United States
CATEGORIES:Film
ATTACH;FMTTYPE=image/jpeg:https://www.arts-index.net/wp-content/uploads/2025/01/joemovie.jpg
ORGANIZER;CN="Madison House of the Arts":MAILTO:Madisonhouseofthearts434@gmail.com
END:VEVENT
BEGIN:VEVENT
DTSTART;TZID=America/New_York:20250621T000000
DTEND;TZID=America/New_York:20250621T050000
DTSTAMP:20260423T165251
CREATED:20250606T181028Z
LAST-MODIFIED:20250606T181028Z
UID:10001178-1750464000-1750482000@www.arts-index.net
SUMMARY:Joe's movie house
DESCRIPTION:
URL:https://www.arts-index.net/event/joes-movie-house-3/
LOCATION:Madison House of the Arts\, 607 Madison Street\, Lynchburg\, United States
CATEGORIES:Film
ATTACH;FMTTYPE=image/jpeg:https://www.arts-index.net/wp-content/uploads/2025/01/joemovie.jpg
ORGANIZER;CN="Madison House of the Arts":MAILTO:Madisonhouseofthearts434@gmail.com
END:VEVENT
BEGIN:VEVENT
DTSTART;TZID=America/New_York:20250628T000000
DTEND;TZID=America/New_York:20250628T050000
DTSTAMP:20260423T165251
CREATED:20250606T181104Z
LAST-MODIFIED:20250606T181104Z
UID:10001179-1751068800-1751086800@www.arts-index.net
SUMMARY:Joe's movie house
DESCRIPTION:
URL:https://www.arts-index.net/event/joes-movie-house-4/
LOCATION:Madison House of the Arts\, 607 Madison Street\, Lynchburg\, United States
CATEGORIES:Film
ATTACH;FMTTYPE=image/jpeg:https://www.arts-index.net/wp-content/uploads/2025/01/joemovie.jpg
ORGANIZER;CN="Madison House of the Arts":MAILTO:Madisonhouseofthearts434@gmail.com
END:VEVENT
END:VCALENDAR