BEGIN:VCALENDAR
VERSION:2.0
PRODID:-//The ARTS Index/LynchburgTickets by ArtSync - ECPv6.15.20//NONSGML v1.0//EN
CALSCALE:GREGORIAN
METHOD:PUBLISH
X-ORIGINAL-URL:https://www.arts-index.net
X-WR-CALDESC:Events for The ARTS Index/LynchburgTickets by ArtSync
REFRESH-INTERVAL;VALUE=DURATION:PT1H
X-Robots-Tag:noindex
X-PUBLISHED-TTL:PT1H
BEGIN:VTIMEZONE
TZID:America/New_York
BEGIN:DAYLIGHT
TZOFFSETFROM:-0500
TZOFFSETTO:-0400
TZNAME:EDT
DTSTART:20240310T070000
END:DAYLIGHT
BEGIN:STANDARD
TZOFFSETFROM:-0400
TZOFFSETTO:-0500
TZNAME:EST
DTSTART:20241103T060000
END:STANDARD
BEGIN:DAYLIGHT
TZOFFSETFROM:-0500
TZOFFSETTO:-0400
TZNAME:EDT
DTSTART:20250309T070000
END:DAYLIGHT
BEGIN:STANDARD
TZOFFSETFROM:-0400
TZOFFSETTO:-0500
TZNAME:EST
DTSTART:20251102T060000
END:STANDARD
BEGIN:DAYLIGHT
TZOFFSETFROM:-0500
TZOFFSETTO:-0400
TZNAME:EDT
DTSTART:20260308T070000
END:DAYLIGHT
BEGIN:STANDARD
TZOFFSETFROM:-0400
TZOFFSETTO:-0500
TZNAME:EST
DTSTART:20261101T060000
END:STANDARD
END:VTIMEZONE
BEGIN:VEVENT
DTSTART;TZID=America/New_York:20250810T150000
DTEND;TZID=America/New_York:20250810T180000
DTSTAMP:20260423T154950
CREATED:20250808T172048Z
LAST-MODIFIED:20250808T172048Z
UID:10001452-1754838000-1754848800@www.arts-index.net
SUMMARY:Village Concerts Benefit for Daily Bread
DESCRIPTION:
URL:https://www.arts-index.net/event/village-concerts-benefit-for-daily-bread/
CATEGORIES:Music
ATTACH;FMTTYPE=image/jpeg:https://www.arts-index.net/wp-content/uploads/2025/08/villageconcert.jpg
END:VEVENT
BEGIN:VEVENT
DTSTART;TZID=America/New_York:20250818T190000
DTEND;TZID=America/New_York:20250818T190000
DTSTAMP:20260423T154950
CREATED:20250815T173958Z
LAST-MODIFIED:20250815T173958Z
UID:10001477-1755543600-1755543600@www.arts-index.net
SUMMARY:The Dudley Raine Stage Benefit Concert
DESCRIPTION:
URL:https://www.arts-index.net/event/the-dudley-raine-stage-benefit-concert/
LOCATION:Second Stage Amherst\, 194 2nd Street\, Amherst\, 24521\, United States
CATEGORIES:Music
ATTACH;FMTTYPE=image/jpeg:https://www.arts-index.net/wp-content/uploads/2025/08/DudleyRainBenefit.jpg
ORGANIZER;CN="Second Stage Amherst":MAILTO:secondstageamherst@gmail.com
END:VEVENT
END:VCALENDAR