BEGIN:VCALENDAR
VERSION:2.0
PRODID:-//The ARTS Index/LynchburgTickets by ArtSync - ECPv6.15.20//NONSGML v1.0//EN
CALSCALE:GREGORIAN
METHOD:PUBLISH
X-ORIGINAL-URL:https://www.arts-index.net
X-WR-CALDESC:Events for The ARTS Index/LynchburgTickets by ArtSync
REFRESH-INTERVAL;VALUE=DURATION:PT1H
X-Robots-Tag:noindex
X-PUBLISHED-TTL:PT1H
BEGIN:VTIMEZONE
TZID:America/New_York
BEGIN:DAYLIGHT
TZOFFSETFROM:-0500
TZOFFSETTO:-0400
TZNAME:EDT
DTSTART:20240310T070000
END:DAYLIGHT
BEGIN:STANDARD
TZOFFSETFROM:-0400
TZOFFSETTO:-0500
TZNAME:EST
DTSTART:20241103T060000
END:STANDARD
BEGIN:DAYLIGHT
TZOFFSETFROM:-0500
TZOFFSETTO:-0400
TZNAME:EDT
DTSTART:20250309T070000
END:DAYLIGHT
BEGIN:STANDARD
TZOFFSETFROM:-0400
TZOFFSETTO:-0500
TZNAME:EST
DTSTART:20251102T060000
END:STANDARD
BEGIN:DAYLIGHT
TZOFFSETFROM:-0500
TZOFFSETTO:-0400
TZNAME:EDT
DTSTART:20260308T070000
END:DAYLIGHT
BEGIN:STANDARD
TZOFFSETFROM:-0400
TZOFFSETTO:-0500
TZNAME:EST
DTSTART:20261101T060000
END:STANDARD
END:VTIMEZONE
BEGIN:VEVENT
DTSTART;TZID=America/New_York:20251214T160000
DTEND;TZID=America/New_York:20251214T171500
DTSTAMP:20260421T042353
CREATED:20251212T203750Z
LAST-MODIFIED:20251212T203750Z
UID:10004598-1765728000-1765732500@www.arts-index.net
SUMMARY:Ecclesia School of the Arts Christmas Showcase
DESCRIPTION:
URL:https://www.arts-index.net/event/ecclesia-school-of-the-arts-christmas-showcase/
LOCATION:Joy & Lynch Christian Warehouse Theatre\, Academy Center of the Arts\, 501 Commerce Street\, Lynchburg\, 24504\, United States
CATEGORIES:Dance,Music
ATTACH;FMTTYPE=image/jpeg:https://www.arts-index.net/wp-content/uploads/2025/12/ESA-Showcase-Banner-Edit-1536x864-1.jpg
ORGANIZER;CN="Ecclesia School of the Arts":MAILTO:info@ecclesiaarts.com
END:VEVENT
BEGIN:VEVENT
DTSTART;TZID=America/New_York:20250531T170000
DTEND;TZID=America/New_York:20250531T170000
DTSTAMP:20260421T042353
CREATED:20250207T164417Z
LAST-MODIFIED:20250401T022751Z
UID:10000736-1748710800-1748710800@www.arts-index.net
SUMMARY:Art in Motion
DESCRIPTION:Students from our professional ballet program for youths 3 to 18 perform in our annual celebration of dance. CVB’s primary focus is the professional training of ballet technique and artistry from pre-­ballet to pre-­professional.
URL:https://www.arts-index.net/event/art-in-motion/2025-05-31/2/
LOCATION:The Warehouse Theatre\, Academy Center of the Arts\, 519 Commerce Street\, Lynchburg\, Virginia\, 24502
CATEGORIES:Dance,LT
ATTACH;FMTTYPE=image/jpeg:https://www.arts-index.net/wp-content/uploads/2025/02/25-CVBArtinMotion-387.jpg
ORGANIZER;CN="Central Virginia Ballet":MAILTO:centralvirginiaballet@yahoo.com
END:VEVENT
BEGIN:VEVENT
DTSTART;TZID=America/New_York:20250517T190000
DTEND;TZID=America/New_York:20250517T190000
DTSTAMP:20260421T042353
CREATED:20250516T025256Z
LAST-MODIFIED:20250516T025256Z
UID:10001102-1747508400-1747508400@www.arts-index.net
SUMMARY:Alice "Wonders"
DESCRIPTION:
URL:https://www.arts-index.net/event/alice-wonders/2025-05-17/2/
LOCATION:Joy & Lynch Christian Warehouse Theatre\, Academy Center of the Arts\, 501 Commerce Street\, Lynchburg\, 24504\, United States
CATEGORIES:Dance
ATTACH;FMTTYPE=image/jpeg:https://www.arts-index.net/wp-content/uploads/2025/05/AliceWonders.jpg
ORGANIZER;CN="Ecclesia School of the Arts":MAILTO:info@ecclesiaarts.com
END:VEVENT
END:VCALENDAR