BEGIN:VCALENDAR
VERSION:2.0
PRODID:-//The ARTS Index/LynchburgTickets by ArtSync - ECPv6.15.20//NONSGML v1.0//EN
CALSCALE:GREGORIAN
METHOD:PUBLISH
X-ORIGINAL-URL:https://www.arts-index.net
X-WR-CALDESC:Events for The ARTS Index/LynchburgTickets by ArtSync
REFRESH-INTERVAL;VALUE=DURATION:PT1H
X-Robots-Tag:noindex
X-PUBLISHED-TTL:PT1H
BEGIN:VTIMEZONE
TZID:America/New_York
BEGIN:DAYLIGHT
TZOFFSETFROM:-0500
TZOFFSETTO:-0400
TZNAME:EDT
DTSTART:20240310T070000
END:DAYLIGHT
BEGIN:STANDARD
TZOFFSETFROM:-0400
TZOFFSETTO:-0500
TZNAME:EST
DTSTART:20241103T060000
END:STANDARD
BEGIN:DAYLIGHT
TZOFFSETFROM:-0500
TZOFFSETTO:-0400
TZNAME:EDT
DTSTART:20250309T070000
END:DAYLIGHT
BEGIN:STANDARD
TZOFFSETFROM:-0400
TZOFFSETTO:-0500
TZNAME:EST
DTSTART:20251102T060000
END:STANDARD
BEGIN:DAYLIGHT
TZOFFSETFROM:-0500
TZOFFSETTO:-0400
TZNAME:EDT
DTSTART:20260308T070000
END:DAYLIGHT
BEGIN:STANDARD
TZOFFSETFROM:-0400
TZOFFSETTO:-0500
TZNAME:EST
DTSTART:20261101T060000
END:STANDARD
END:VTIMEZONE
BEGIN:VEVENT
DTSTART;TZID=America/New_York:20251107T193000
DTEND;TZID=America/New_York:20251107T193000
DTSTAMP:20260421T055129
CREATED:20250213T165700Z
LAST-MODIFIED:20250905T182936Z
UID:10000766-1762543800-1762543800@www.arts-index.net
SUMMARY:Southern Fried Murder
DESCRIPTION:
URL:https://www.arts-index.net/event/sanders-family-christmas-2/2025-11-07/
LOCATION:Snidow Chapel at the University of Lynchburg\, 1501 Lakeside Drive\, Lynchburg\, 24501\, United States
CATEGORIES:*Theatre,LT,Musical
ATTACH;FMTTYPE=image/jpeg:https://www.arts-index.net/wp-content/uploads/2025/02/25-RTC-SouthernFried-360-R.jpg
ORGANIZER;CN="Renaisance Theatre":MAILTO:RenaissanceTheatreLynchburg@gmail.com
END:VEVENT
BEGIN:VEVENT
DTSTART;TZID=America/New_York:20251107T193000
DTEND;TZID=America/New_York:20251107T193000
DTSTAMP:20260421T055129
CREATED:20250608T022625Z
LAST-MODIFIED:20251107T143601Z
UID:10004184-1762543800-1762543800@www.arts-index.net
SUMMARY:Madame Butterfly
DESCRIPTION:
URL:https://www.arts-index.net/event/madame-butterfly/2025-11-07/
LOCATION:Academy Center of the Arts Historic Theatre\, 600 Main Street\, Lynchburg\, 24504\, United States
CATEGORIES:*,*Music,*Theatre,Opera
ATTACH;FMTTYPE=image/jpeg:https://www.arts-index.net/wp-content/uploads/2025/06/25-MadameButterfly-360.jpg
ORGANIZER;CN="Opera on the James":MAILTO:info@OperaOnTheJames.org﻿
END:VEVENT
BEGIN:VEVENT
DTSTART;TZID=America/New_York:20251108T193000
DTEND;TZID=America/New_York:20251108T193000
DTSTAMP:20260421T055129
CREATED:20250213T165700Z
LAST-MODIFIED:20250905T182936Z
UID:10001393-1762630200-1762630200@www.arts-index.net
SUMMARY:Southern Fried Murder
DESCRIPTION:
URL:https://www.arts-index.net/event/sanders-family-christmas-2/2025-11-08/
LOCATION:Snidow Chapel at the University of Lynchburg\, 1501 Lakeside Drive\, Lynchburg\, 24501\, United States
CATEGORIES:*Theatre,LT,Musical
ATTACH;FMTTYPE=image/jpeg:https://www.arts-index.net/wp-content/uploads/2025/02/25-RTC-SouthernFried-360-R.jpg
ORGANIZER;CN="Renaisance Theatre":MAILTO:RenaissanceTheatreLynchburg@gmail.com
END:VEVENT
BEGIN:VEVENT
DTSTART;TZID=America/New_York:20251109T140000
DTEND;TZID=America/New_York:20251109T140000
DTSTAMP:20260421T055129
CREATED:20250213T165700Z
LAST-MODIFIED:20250905T182936Z
UID:10001394-1762696800-1762696800@www.arts-index.net
SUMMARY:Southern Fried Murder
DESCRIPTION:
URL:https://www.arts-index.net/event/sanders-family-christmas-2/2025-11-09/
LOCATION:Snidow Chapel at the University of Lynchburg\, 1501 Lakeside Drive\, Lynchburg\, 24501\, United States
CATEGORIES:*Theatre,LT,Musical
ATTACH;FMTTYPE=image/jpeg:https://www.arts-index.net/wp-content/uploads/2025/02/25-RTC-SouthernFried-360-R.jpg
ORGANIZER;CN="Renaisance Theatre":MAILTO:RenaissanceTheatreLynchburg@gmail.com
END:VEVENT
BEGIN:VEVENT
DTSTART;TZID=America/New_York:20251109T150000
DTEND;TZID=America/New_York:20251109T150000
DTSTAMP:20260421T055129
CREATED:20250608T022625Z
LAST-MODIFIED:20251107T143601Z
UID:10004185-1762700400-1762700400@www.arts-index.net
SUMMARY:Madame Butterfly
DESCRIPTION:
URL:https://www.arts-index.net/event/madame-butterfly/2025-11-09/
LOCATION:Academy Center of the Arts Historic Theatre\, 600 Main Street\, Lynchburg\, 24504\, United States
CATEGORIES:*,*Music,*Theatre,Opera
ATTACH;FMTTYPE=image/jpeg:https://www.arts-index.net/wp-content/uploads/2025/06/25-MadameButterfly-360.jpg
ORGANIZER;CN="Opera on the James":MAILTO:info@OperaOnTheJames.org﻿
END:VEVENT
BEGIN:VEVENT
DTSTART;TZID=America/New_York:20251114T193000
DTEND;TZID=America/New_York:20251114T193000
DTSTAMP:20260421T055129
CREATED:20250213T165700Z
LAST-MODIFIED:20250905T182936Z
UID:10001395-1763148600-1763148600@www.arts-index.net
SUMMARY:Southern Fried Murder
DESCRIPTION:
URL:https://www.arts-index.net/event/sanders-family-christmas-2/2025-11-14/
LOCATION:Snidow Chapel at the University of Lynchburg\, 1501 Lakeside Drive\, Lynchburg\, 24501\, United States
CATEGORIES:*Theatre,LT,Musical
ATTACH;FMTTYPE=image/jpeg:https://www.arts-index.net/wp-content/uploads/2025/02/25-RTC-SouthernFried-360-R.jpg
ORGANIZER;CN="Renaisance Theatre":MAILTO:RenaissanceTheatreLynchburg@gmail.com
END:VEVENT
BEGIN:VEVENT
DTSTART;TZID=America/New_York:20251115T193000
DTEND;TZID=America/New_York:20251115T193000
DTSTAMP:20260421T055129
CREATED:20250213T165700Z
LAST-MODIFIED:20250905T182936Z
UID:10001396-1763235000-1763235000@www.arts-index.net
SUMMARY:Southern Fried Murder
DESCRIPTION:
URL:https://www.arts-index.net/event/sanders-family-christmas-2/2025-11-15/
LOCATION:Snidow Chapel at the University of Lynchburg\, 1501 Lakeside Drive\, Lynchburg\, 24501\, United States
CATEGORIES:*Theatre,LT,Musical
ATTACH;FMTTYPE=image/jpeg:https://www.arts-index.net/wp-content/uploads/2025/02/25-RTC-SouthernFried-360-R.jpg
ORGANIZER;CN="Renaisance Theatre":MAILTO:RenaissanceTheatreLynchburg@gmail.com
END:VEVENT
BEGIN:VEVENT
DTSTART;TZID=America/New_York:20251116T140000
DTEND;TZID=America/New_York:20251116T140000
DTSTAMP:20260421T055129
CREATED:20250213T165700Z
LAST-MODIFIED:20250905T182936Z
UID:10001397-1763301600-1763301600@www.arts-index.net
SUMMARY:Southern Fried Murder
DESCRIPTION:
URL:https://www.arts-index.net/event/sanders-family-christmas-2/2025-11-16/
LOCATION:Snidow Chapel at the University of Lynchburg\, 1501 Lakeside Drive\, Lynchburg\, 24501\, United States
CATEGORIES:*Theatre,LT,Musical
ATTACH;FMTTYPE=image/jpeg:https://www.arts-index.net/wp-content/uploads/2025/02/25-RTC-SouthernFried-360-R.jpg
ORGANIZER;CN="Renaisance Theatre":MAILTO:RenaissanceTheatreLynchburg@gmail.com
END:VEVENT
END:VCALENDAR