BEGIN:VCALENDAR
VERSION:2.0
PRODID:-//The ARTS Index/LynchburgTickets by ArtSync - ECPv6.15.20//NONSGML v1.0//EN
CALSCALE:GREGORIAN
METHOD:PUBLISH
X-WR-CALNAME:The ARTS Index/LynchburgTickets by ArtSync
X-ORIGINAL-URL:https://www.arts-index.net
X-WR-CALDESC:Events for The ARTS Index/LynchburgTickets by ArtSync
REFRESH-INTERVAL;VALUE=DURATION:PT1H
X-Robots-Tag:noindex
X-PUBLISHED-TTL:PT1H
BEGIN:VTIMEZONE
TZID:America/New_York
BEGIN:DAYLIGHT
TZOFFSETFROM:-0500
TZOFFSETTO:-0400
TZNAME:EDT
DTSTART:20250309T070000
END:DAYLIGHT
BEGIN:STANDARD
TZOFFSETFROM:-0400
TZOFFSETTO:-0500
TZNAME:EST
DTSTART:20251102T060000
END:STANDARD
BEGIN:DAYLIGHT
TZOFFSETFROM:-0500
TZOFFSETTO:-0400
TZNAME:EDT
DTSTART:20260308T070000
END:DAYLIGHT
BEGIN:STANDARD
TZOFFSETFROM:-0400
TZOFFSETTO:-0500
TZNAME:EST
DTSTART:20261101T060000
END:STANDARD
BEGIN:DAYLIGHT
TZOFFSETFROM:-0500
TZOFFSETTO:-0400
TZNAME:EDT
DTSTART:20270314T070000
END:DAYLIGHT
BEGIN:STANDARD
TZOFFSETFROM:-0400
TZOFFSETTO:-0500
TZNAME:EST
DTSTART:20271107T060000
END:STANDARD
END:VTIMEZONE
BEGIN:VEVENT
DTSTART;TZID=America/New_York:20260424T100000
DTEND;TZID=America/New_York:20260424T160000
DTSTAMP:20260424T081958
CREATED:20251017T151433Z
LAST-MODIFIED:20251017T151433Z
UID:10003931-1777024800-1777046400@www.arts-index.net
SUMMARY:SMAC Annual Art Exhibition
DESCRIPTION:
URL:https://www.arts-index.net/event/smac-annual-art-exhibition/2026-04-24/
LOCATION:Kaleidoscope Gathering Place\, 2500 Hardy Road\, Hardy\, 24101\, United States
CATEGORIES:Art Exhibit
ATTACH;FMTTYPE=image/jpeg:https://www.arts-index.net/wp-content/uploads/2025/10/ArtShow25SMAC.jpg
ORGANIZER;CN="Smith Mountain Arts Council":MAILTO:Info@SMAC-arts.com
END:VEVENT
BEGIN:VEVENT
DTSTART;TZID=America/New_York:20260424T163000
DTEND;TZID=America/New_York:20260424T220000
DTSTAMP:20260424T081958
CREATED:20260417T193715Z
LAST-MODIFIED:20260417T193715Z
UID:10005276-1777048200-1777068000@www.arts-index.net
SUMMARY:Terrapin Mountain Earth Festival
DESCRIPTION:
URL:https://www.arts-index.net/event/terrapin-mountain-earth-festival-2/2026-04-24/
LOCATION:Sedalia Center\, 1108 Sedalia School Road\, Big Island\, 24526\, United States
CATEGORIES:Festival,Music
ATTACH;FMTTYPE=image/jpeg:https://www.arts-index.net/wp-content/uploads/2026/04/bfc-2048x1536-1.jpg
ORGANIZER;CN="Sedalia Center":MAILTO:office@sedaliacenter.org
END:VEVENT
BEGIN:VEVENT
DTSTART;TZID=America/New_York:20260424T170000
DTEND;TZID=America/New_York:20260424T183000
DTSTAMP:20260424T081958
CREATED:20260417T151943Z
LAST-MODIFIED:20260417T151943Z
UID:10005270-1777050000-1777055400@www.arts-index.net
SUMMARY:BCPS High School Art Show
DESCRIPTION:
URL:https://www.arts-index.net/event/bcps-high-school-art-show/
LOCATION:Bower Center For the Arts\, 305 North Bridge Street\, Bedford\, 24523\, United States
CATEGORIES:Art
ATTACH;FMTTYPE=image/jpeg:https://www.arts-index.net/wp-content/uploads/2026/04/BCPS-Poster-Square-Pillow-2.jpg
END:VEVENT
BEGIN:VEVENT
DTSTART;TZID=America/New_York:20260424T173000
DTEND;TZID=America/New_York:20260424T173000
DTSTAMP:20260424T081958
CREATED:20260312T180249Z
LAST-MODIFIED:20260312T180249Z
UID:10005113-1777051800-1777051800@www.arts-index.net
SUMMARY:Free Community Concert: Bigfoot County
DESCRIPTION:
URL:https://www.arts-index.net/event/free-community-concert-bigfoot-county/
LOCATION:Lynchburg Amphitheater\, 1100 Jefferson Street\, LYNCHBURG\, VA\, 24504\, United States
CATEGORIES:Music
ATTACH;FMTTYPE=image/jpeg:https://www.arts-index.net/wp-content/uploads/2026/03/opening-concert-lynchburg-amphitheater-at-riverfront-park-events-soft-opening-ribbon-cutting-april-24-20a92887.jpg
ORGANIZER;CN="Lynchburg Amphitheater at Riverfront Park":MAILTO:info@lyhamp.com
END:VEVENT
BEGIN:VEVENT
DTSTART;TZID=America/New_York:20260424T190000
DTEND;TZID=America/New_York:20260424T190000
DTSTAMP:20260424T081958
CREATED:20250731T205700Z
LAST-MODIFIED:20260312T144748Z
UID:10001404-1777057200-1777057200@www.arts-index.net
SUMMARY:Charlotte's Web
DESCRIPTION:
URL:https://www.arts-index.net/event/charlottes-web/2026-04-24/
LOCATION:Heritage High School Theatre\, 3101 Wards Ferry Rd.\, Lynchburg\, United States
CATEGORIES:LT,Theatre
ATTACH;FMTTYPE=image/jpeg:https://www.arts-index.net/wp-content/uploads/2025/07/26-CharlottesWeb-360.jpg
ORGANIZER;CN="Heritage High Pioneer Theatre":MAILTO:heritagepioneertheatre@gmail.com
END:VEVENT
BEGIN:VEVENT
DTSTART;TZID=America/New_York:20260424T193000
DTEND;TZID=America/New_York:20260424T193000
DTSTAMP:20260424T081958
CREATED:20260403T152213Z
LAST-MODIFIED:20260403T152213Z
UID:10005213-1777059000-1777059000@www.arts-index.net
SUMMARY:Misery
DESCRIPTION:
URL:https://www.arts-index.net/event/misery/2026-04-24/
LOCATION:The Wolf Den – Downtown\, 723 Jefferson Street\, Lynchburg\, 24504\, United States
CATEGORIES:Theatre
ATTACH;FMTTYPE=image/jpeg:https://www.arts-index.net/wp-content/uploads/2026/04/Misery.jpg
ORGANIZER;CN="Wolfbane Prouctions":MAILTO:BOXOFFICE@WOLFBANE.ORG
END:VEVENT
BEGIN:VEVENT
DTSTART;TZID=America/New_York:20260424T193000
DTEND;TZID=America/New_York:20260424T193000
DTSTAMP:20260424T081958
CREATED:20260410T190800Z
LAST-MODIFIED:20260410T190800Z
UID:10005246-1777059000-1777059000@www.arts-index.net
SUMMARY:Pride & Prejudice
DESCRIPTION:
URL:https://www.arts-index.net/event/pride-prejudice/2026-04-24/
LOCATION:Commerce Street Theatre\, 1022 Commerce Street\, Lynchburg\, United States
CATEGORIES:Theatre
ATTACH;FMTTYPE=image/jpeg:https://www.arts-index.net/wp-content/uploads/2026/04/prideprej.jpg
ORGANIZER;CN="Commerce Street Theatre":MAILTO:commercestreettheater@gmail.com
END:VEVENT
BEGIN:VEVENT
DTSTART;TZID=America/New_York:20260424T193000
DTEND;TZID=America/New_York:20260424T193000
DTSTAMP:20260424T081958
CREATED:20260410T191558Z
LAST-MODIFIED:20260410T191558Z
UID:10005253-1777059000-1777059000@www.arts-index.net
SUMMARY:Funny Girl
DESCRIPTION:
URL:https://www.arts-index.net/event/funny-girl/2026-04-24/
LOCATION:Tower Theatre at Liberty University\, 1971 University Blvd.\, Lynchburg\, 24515\, United States
CATEGORIES:Theatre
ATTACH;FMTTYPE=image/jpeg:https://www.arts-index.net/wp-content/uploads/2026/04/Funny-Girl-1024x1024-1.jpg
END:VEVENT
BEGIN:VEVENT
DTSTART;TZID=America/New_York:20260424T193000
DTEND;TZID=America/New_York:20260424T210000
DTSTAMP:20260424T081958
CREATED:20260417T195536Z
LAST-MODIFIED:20260417T195536Z
UID:10005281-1777059000-1777064400@www.arts-index.net
SUMMARY:Dance Works Showcase
DESCRIPTION:
URL:https://www.arts-index.net/event/dance-works-showcase/2026-04-24/
LOCATION:Hailey Theatre\, Dillard Fine Arts Center\, University of Lynchburg\, 1501 Lakeside Drive\, Lynchburg\, 24501\, United States
CATEGORIES:Dance
ATTACH;FMTTYPE=image/jpeg:https://www.arts-index.net/wp-content/uploads/2026/04/theater-dance-works-3-5BdNRr.jpg
END:VEVENT
BEGIN:VEVENT
DTSTART;TZID=America/New_York:20260424T200000
DTEND;TZID=America/New_York:20260424T220000
DTSTAMP:20260424T081958
CREATED:20260417T192638Z
LAST-MODIFIED:20260417T192638Z
UID:10005274-1777060800-1777068000@www.arts-index.net
SUMMARY:HENRY CHO
DESCRIPTION:
URL:https://www.arts-index.net/event/henry-cho/
LOCATION:Academy Center of the Arts Historic Theatre\, 600 Main Street\, Lynchburg\, 24504\, United States
CATEGORIES:Comedy
ATTACH;FMTTYPE=image/jpeg:https://www.arts-index.net/wp-content/uploads/2026/04/Henry-Cho1920x1080-1-1536x865-1.jpg
ORGANIZER;CN="Academy Center of the Arts":MAILTO:boxoffice@academycenter.org
END:VEVENT
BEGIN:VEVENT
DTSTART;TZID=America/New_York:20260424T200000
DTEND;TZID=America/New_York:20260424T220000
DTSTAMP:20260424T081958
CREATED:20260417T193132Z
LAST-MODIFIED:20260417T193132Z
UID:10005275-1777060800-1777068000@www.arts-index.net
SUMMARY:Vessira- Louder Than Doubt
DESCRIPTION:
URL:https://www.arts-index.net/event/vessira-louder-than-doubt/
LOCATION:The Music Hall\, 722 Commerce St.\, Lynchburg\, 24504\, United States
CATEGORIES:Music
ATTACH;FMTTYPE=image/jpeg:https://www.arts-index.net/wp-content/uploads/2026/04/Louder-Than-Doubt1920x01080-1536x864-1.jpg
ORGANIZER;CN="The Music Hall%2C ACOA":MAILTO:boxoffice@academycenter.org
END:VEVENT
END:VCALENDAR